BEGIN:VCALENDAR
VERSION:2.0
PRODID:-//SÖLLINGEN SWINGERS Square Dance Club e.V. - ECPv5.16.4//NONSGML v1.0//EN
CALSCALE:GREGORIAN
METHOD:PUBLISH
X-WR-CALNAME:SÖLLINGEN SWINGERS Square Dance Club e.V.
X-ORIGINAL-URL:https://soellingenswingers.de
X-WR-CALDESC:Veranstaltungen für SÖLLINGEN SWINGERS Square Dance Club e.V.
BEGIN:VTIMEZONE
TZID:Europe/Berlin
BEGIN:DAYLIGHT
TZOFFSETFROM:+0100
TZOFFSETTO:+0200
TZNAME:CEST
DTSTART:20250330T010000
END:DAYLIGHT
BEGIN:STANDARD
TZOFFSETFROM:+0200
TZOFFSETTO:+0100
TZNAME:CET
DTSTART:20251026T010000
END:STANDARD
END:VTIMEZONE
BEGIN:VEVENT
DTSTART;TZID=Europe/Berlin:20251215T194500
DTEND;TZID=Europe/Berlin:20251215T214500
DTSTAMP:20260421T054120
CREATED:20211020T134109Z
LAST-MODIFIED:20251207T164546Z
UID:2070-1765827900-1765835100@soellingenswingers.de
SUMMARY:Mainstream
DESCRIPTION:Wir bitten Gäste sich bitte anzumelden\, danke. Anschließend kleine Adventsfeier.
URL:https://soellingenswingers.de/event/ms-plus-3-2-2-2-2-2-2-2-2-2-2-2-2-2-2-2-2-2-2-2-2-2-2-2-2-2-2-2-2-2-2-2-3-2-2-2-2-2-2-2-2-2-2-2-2-2-2-2-2-2-2-2-2-2-2-2-2-2-2-4-2-2-2-2-2-2-2-2-2-2-2-2-2-2-2-3-2-2-2-2-2-2-2-3-2-2-2-2-2-2-2-2-2-2-2-21/
LOCATION:Rathaus\, Kirchstrasse 35\, Söllingen\, 77836\, Germany
CATEGORIES:MS
END:VEVENT
END:VCALENDAR